BEGIN:VCALENDAR
VERSION:2.0
CALSCALE:GREGORIAN
PRODID:adamgibbons/ics
METHOD:PUBLISH
X-PUBLISHED-TTL:PT1H
BEGIN:VEVENT
UID:VDhr9y5My0DMK1zBLB6eP
SUMMARY:ICMU Summer School on Symmetries
DTSTAMP:20260426T014000Z
DTSTART;VALUE=DATE:20260816
DTEND;VALUE=DATE:20260828
DESCRIPTION:The programme provides support for high-quality research school
	s that introduce students and young scientists to active areas of mathemat
	ics. These schools are planned as international events\, taking place in U
	kraine in a safe environment.\n\nThis summer school provides an extensive 
	introduction to symmetries in the contexts described above\, introduce the
	 mathematical structures underlying them\, and discuss applications both w
	ithin mathematics and in theoretical physics.\n\nThe school is arranged in
	 the format of a flipped classroom\, meaning that all the lectures will be
	 given by the students to each other. The school is aimed at advanced unde
	rgraduate\, graduate students and early postdocs\, both specialized in mat
	h and in theoretical physics.
URL:https://icmu.ua/en/events/symmetries-summer-2026
LOCATION:In-person / Ukraine
END:VEVENT
END:VCALENDAR
